BEGIN:VCALENDAR
VERSION:2.0
PRODID:-//wp-events-plugin.com//7.2.3.1//EN
TZID:Europe/London
X-WR-TIMEZONE:Europe/London
BEGIN:VEVENT
UID:663@wolverhamptonwheelers.co.uk
DTSTART;TZID=Europe/London:20250527T183000
DTEND;TZID=Europe/London:20250527T203000
DTSTAMP:20250528T102008Z
URL:http://www.wolverhamptonwheelers.co.uk/events/tt-league-2025-round-3/
SUMMARY:TT League 2025 Round 3
DESCRIPTION:\n2025-05-27 WWCC K21-11Download\n\n\n\nOrganised by Wolerhampt
 on Wheelers CC\, K21-11\n
CATEGORIES:Time Trial,Time Trial Result
END:VEVENT
BEGIN:VTIMEZONE
TZID:Europe/London
X-LIC-LOCATION:Europe/London
BEGIN:DAYLIGHT
DTSTART:20250330T020000
TZOFFSETFROM:+0000
TZOFFSETTO:+0100
TZNAME:BST
END:DAYLIGHT
END:VTIMEZONE
END:VCALENDAR